BEGIN:VCALENDAR
VERSION:2.0
PRODID:-//BMW Car Club of America - Oregon Chapter - ECPv6.15.20//NONSGML v1.0//EN
CALSCALE:GREGORIAN
METHOD:PUBLISH
X-WR-CALNAME:BMW Car Club of America - Oregon Chapter
X-ORIGINAL-URL:https://bmworegoncca.com
X-WR-CALDESC:Events for BMW Car Club of America - Oregon Chapter
REFRESH-INTERVAL;VALUE=DURATION:PT1H
X-Robots-Tag:noindex
X-PUBLISHED-TTL:PT1H
BEGIN:VTIMEZONE
TZID:America/Los_Angeles
BEGIN:DAYLIGHT
TZOFFSETFROM:-0800
TZOFFSETTO:-0700
TZNAME:PDT
DTSTART:20230312T100000
END:DAYLIGHT
BEGIN:STANDARD
TZOFFSETFROM:-0700
TZOFFSETTO:-0800
TZNAME:PST
DTSTART:20231105T090000
END:STANDARD
BEGIN:DAYLIGHT
TZOFFSETFROM:-0800
TZOFFSETTO:-0700
TZNAME:PDT
DTSTART:20240310T100000
END:DAYLIGHT
BEGIN:STANDARD
TZOFFSETFROM:-0700
TZOFFSETTO:-0800
TZNAME:PST
DTSTART:20241103T090000
END:STANDARD
BEGIN:DAYLIGHT
TZOFFSETFROM:-0800
TZOFFSETTO:-0700
TZNAME:PDT
DTSTART:20250309T100000
END:DAYLIGHT
BEGIN:STANDARD
TZOFFSETFROM:-0700
TZOFFSETTO:-0800
TZNAME:PST
DTSTART:20251102T090000
END:STANDARD
END:VTIMEZONE
BEGIN:VEVENT
DTSTART;TZID=America/Los_Angeles:20240713T093000
DTEND;TZID=America/Los_Angeles:20240713T150000
DTSTAMP:20260424T023107
CREATED:20240311T213949Z
LAST-MODIFIED:20240625T204609Z
UID:29651-1720863000-1720882800@bmworegoncca.com
SUMMARY:2024 Aufderheide Covered Bridges Drive
DESCRIPTION:*Please note: This drive is open to current BMW CCA members ONLY & will have a limit of 45 cars. \nPlease click her to register\nThe Covered Bridges Tour is unique this year. It combines the southern part of the West Cascades Scenic Byway with a few historic covered bridges mixed in. Starting east of Eugene we will follow the rolling McKenzie River and cross two covered bridges. Turning south we will drive a particular part of the byway called the Aufderheide Scenic Byway. It starts with hugging the rocky cliffs above the picturesque Cougar Reservoir. Then we will drop down into a forest grove that has some amazing undulating twisty roads. Multiple fires have hit this area but the return to life is remarkable! The lush canopy of the majestic Willamette National Forest then takes over and you will see the most natural forested road you have ever been on. Robert Aufderheide believed that the forest should serve multiple uses and this byway honors his achievements in forest management. When we arrive in Westfir we will cross the Office Covered Bridge for a rest stop then we will continue to Oakridge for lunch at Mazatlan Restaurant. After lunch the tour continues with more covered bridges concluding at Lowell Covered Bridge Park. The Middle Fork of the Willamette River and its magnificent gorge will guide us back to civilization. \nCheck out Grant’s Getaways: https://traveloregon.com/things-to-do/destinations/lakes-reservoirs/aufderheide-scenic-drive/ \nWe will meet at 9:45 am at Hendricks Bridge County Park in Springfield OR. Take Hwy 126 East of Eugene to get there.   \nAchtung! Cell phone service is Non-Existent on this tour\, and so are gas stations. Be sure your beloved BMW is in top condition before taking this drive; this would be a bad place to break down. Bathrooms are at the start and at lunch\, about 2 hours apart. There is also one at the end of the drive. \nArrive no earlier than 9:30AM. We will have a mandatory Drivers’ Meeting at 10:00 AM to explain the route and safety rules. We will head out right after. \nPLEASE NOTE: \n\nAll *drivers* MUST be pre-registered online (by July 12th) and be a current BMW CCA member. No “Day Of” registration is allowed. And no “guest” drivers are allowed. \nYou do not need a separate registration for any passengers in your vehicle BUT all drivers AND passengers need to sign the online waiver prior to the event. (see #4)\nRegistration is limited to 45 cars.\nALL DRIVERS AND PASSENGERS MUST SIGN THE WAIVER PRIOR TO THE EVENT. WHICH IS SEPERATE FROM THE REGISTRATION FOR THE EVENT. THERE IS A LINK TO IT AFTER YOU FINISH REGISTERING FOR THE DRIVE.\nDrivers and passengers should stay with their cars until check-in is complete.\nDrivers meeting is mandatory.
URL:https://bmworegoncca.com/event/2024/covered-bridges-drive/
LOCATION:Hendricks Bridge County Park\, Main St\, Springfield\, OR\, 97478\, United States
CATEGORIES:Driving Tour
ATTACH;FMTTYPE=image/jpeg:https://bmworegoncca.com/wp-content/uploads/2024/03/Cascade-Scenic-Scenic-Byway1.jpg
ORGANIZER;CN="Mark Koepping":MAILTO:mark@bmworegoncca.com
END:VEVENT
END:VCALENDAR