BEGIN:VCALENDAR
VERSION:2.0
PRODID:-//BMW Car Club of America - Oregon Chapter - ECPv6.15.20//NONSGML v1.0//EN
CALSCALE:GREGORIAN
METHOD:PUBLISH
X-ORIGINAL-URL:https://bmworegoncca.com
X-WR-CALDESC:Events for BMW Car Club of America - Oregon Chapter
REFRESH-INTERVAL;VALUE=DURATION:PT1H
X-Robots-Tag:noindex
X-PUBLISHED-TTL:PT1H
BEGIN:VTIMEZONE
TZID:America/Los_Angeles
BEGIN:DAYLIGHT
TZOFFSETFROM:-0800
TZOFFSETTO:-0700
TZNAME:PDT
DTSTART:20250309T100000
END:DAYLIGHT
BEGIN:STANDARD
TZOFFSETFROM:-0700
TZOFFSETTO:-0800
TZNAME:PST
DTSTART:20251102T090000
END:STANDARD
BEGIN:DAYLIGHT
TZOFFSETFROM:-0800
TZOFFSETTO:-0700
TZNAME:PDT
DTSTART:20260308T100000
END:DAYLIGHT
BEGIN:STANDARD
TZOFFSETFROM:-0700
TZOFFSETTO:-0800
TZNAME:PST
DTSTART:20261101T090000
END:STANDARD
BEGIN:DAYLIGHT
TZOFFSETFROM:-0800
TZOFFSETTO:-0700
TZNAME:PDT
DTSTART:20270314T100000
END:DAYLIGHT
BEGIN:STANDARD
TZOFFSETFROM:-0700
TZOFFSETTO:-0800
TZNAME:PST
DTSTART:20271107T090000
END:STANDARD
END:VTIMEZONE
BEGIN:VEVENT
DTSTART;VALUE=DATE:20260801
DTEND;VALUE=DATE:20260803
DTSTAMP:20260421T130000
CREATED:20260303T195631Z
LAST-MODIFIED:20260303T195631Z
UID:30119-1785542400-1785715199@bmworegoncca.com
SUMMARY:BMW and Ferrari High Desert Drive
DESCRIPTION:save the date
URL:https://bmworegoncca.com/event/2026/bmw-and-ferrari-high-desert-drive-2/
ATTACH;FMTTYPE=image/png:https://bmworegoncca.com/wp-content/uploads/2026/03/IMG_0819.png
ORGANIZER;CN="Mark Koepping":MAILTO:mark@bmworegoncca.com
END:VEVENT
BEGIN:VEVENT
DTSTART;TZID=America/Los_Angeles:20260815T080000
DTEND;TZID=America/Los_Angeles:20260815T100000
DTSTAMP:20260421T130000
CREATED:20260303T200145Z
LAST-MODIFIED:20260303T200145Z
UID:30122-1786780800-1786788000@bmworegoncca.com
SUMMARY:BMWs and Coffee
DESCRIPTION:Calling all BMW members and enthusiasts!\nJoin your fellow chapter members for a morning dedicated to great cars and even better company. \nFuel Up: Grab a coffee at the local Starbucks and swap stories over a great group of BMWs. \nRefuel: Stick around as we head to Oswego Grill for brunch. \nNo registration is needed—just bring your favorite BMW and a smile. We’ll see you there!
URL:https://bmworegoncca.com/event/2026/bmws-and-coffee-9/
LOCATION:Oswego Grill\, 7 Centerpointe Dr\, Lake Oswego\, OR 97035\, USA\, 2 Centerpointe Dr\, United States
ATTACH;FMTTYPE=image/jpeg:https://bmworegoncca.com/wp-content/uploads/2018/12/fullsizeoutput_10a3.jpeg
ORGANIZER;CN="Scott Cotrell":MAILTO:scott@bmworegoncca.com
END:VEVENT
BEGIN:VEVENT
DTSTART;TZID=America/Los_Angeles:20260822T080000
DTEND;TZID=America/Los_Angeles:20260822T170000
DTSTAMP:20260421T130000
CREATED:20260303T200508Z
LAST-MODIFIED:20260303T200532Z
UID:30124-1787385600-1787418000@bmworegoncca.com
SUMMARY:Drive to Griots M-Car Day
DESCRIPTION:Save the date
URL:https://bmworegoncca.com/event/2026/drive-to-groits-m-car-day/
LOCATION:Griot’s Garage\, 3333 S 38th St\, Tacoma\, WA\, 98409\, United States
ATTACH;FMTTYPE=image/jpeg:https://bmworegoncca.com/wp-content/uploads/2025/03/Image-1.jpeg
ORGANIZER;CN="Mark Koepping":MAILTO:mark@bmworegoncca.com
END:VEVENT
END:VCALENDAR