BEGIN:VCALENDAR
VERSION:2.0
PRODID:-//BMW Car Club of America - Oregon Chapter - ECPv6.15.20//NONSGML v1.0//EN
CALSCALE:GREGORIAN
METHOD:PUBLISH
X-WR-CALNAME:BMW Car Club of America - Oregon Chapter
X-ORIGINAL-URL:https://bmworegoncca.com
X-WR-CALDESC:Events for BMW Car Club of America - Oregon Chapter
REFRESH-INTERVAL;VALUE=DURATION:PT1H
X-Robots-Tag:noindex
X-PUBLISHED-TTL:PT1H
BEGIN:VTIMEZONE
TZID:America/Los_Angeles
BEGIN:DAYLIGHT
TZOFFSETFROM:-0800
TZOFFSETTO:-0700
TZNAME:PDT
DTSTART:20250309T100000
END:DAYLIGHT
BEGIN:STANDARD
TZOFFSETFROM:-0700
TZOFFSETTO:-0800
TZNAME:PST
DTSTART:20251102T090000
END:STANDARD
BEGIN:DAYLIGHT
TZOFFSETFROM:-0800
TZOFFSETTO:-0700
TZNAME:PDT
DTSTART:20260308T100000
END:DAYLIGHT
BEGIN:STANDARD
TZOFFSETFROM:-0700
TZOFFSETTO:-0800
TZNAME:PST
DTSTART:20261101T090000
END:STANDARD
BEGIN:DAYLIGHT
TZOFFSETFROM:-0800
TZOFFSETTO:-0700
TZNAME:PDT
DTSTART:20270314T100000
END:DAYLIGHT
BEGIN:STANDARD
TZOFFSETFROM:-0700
TZOFFSETTO:-0800
TZNAME:PST
DTSTART:20271107T090000
END:STANDARD
END:VTIMEZONE
BEGIN:VEVENT
DTSTART;TZID=America/Los_Angeles:20260712T090000
DTEND;TZID=America/Los_Angeles:20260712T130000
DTSTAMP:20260421T070823
CREATED:20260303T193534Z
LAST-MODIFIED:20260303T193534Z
UID:30111-1783846800-1783861200@bmworegoncca.com
SUMMARY:Newport Drive
DESCRIPTION:Save the Date
URL:https://bmworegoncca.com/event/2026/newport-drive/
ATTACH;FMTTYPE=image/jpeg:https://bmworegoncca.com/wp-content/uploads/2026/03/F90CE709-C3E9-4596-B633-BB4B17C0A72D-scaled.jpeg
ORGANIZER;CN="Norman Carlson":MAILTO:norman.carlson@se.com
END:VEVENT
BEGIN:VEVENT
DTSTART;TZID=America/Los_Angeles:20260719T080000
DTEND;TZID=America/Los_Angeles:20260719T170000
DTSTAMP:20260421T070823
CREATED:20260303T194209Z
LAST-MODIFIED:20260303T194209Z
UID:30114-1784448000-1784480400@bmworegoncca.com
SUMMARY:Forest Grove Concours - non CCA event
DESCRIPTION:Save the date
URL:https://bmworegoncca.com/event/2026/forest-grove-concours-non-cca-event/
LOCATION:Pacific University\, 2043 College Way\, Forest Grove\, OR 97116\, USA\, 2001 College Way\, United States
ATTACH;FMTTYPE=image/jpeg:https://bmworegoncca.com/wp-content/uploads/2026/03/IMG_9684-scaled.jpeg
END:VEVENT
BEGIN:VEVENT
DTSTART;TZID=America/Los_Angeles:20260725T080000
DTEND;TZID=America/Los_Angeles:20260725T100000
DTSTAMP:20260421T070823
CREATED:20260303T194806Z
LAST-MODIFIED:20260303T194806Z
UID:30117-1784966400-1784973600@bmworegoncca.com
SUMMARY:BMW's and Coffee
DESCRIPTION:Calling all BMW members and enthusiasts!\nJoin your fellow chapter members for a morning dedicated to great cars and even better company. \nFuel Up: Grab a coffee at the local Starbucks and swap stories over a great group of BMWs. \nRefuel: Stick around as we head to Oswego Grill for brunch. \nNo registration is needed—just bring your favorite BMW and a smile. We’ll see you there!
URL:https://bmworegoncca.com/event/2026/bmws-and-coffee-8/
LOCATION:Oswego Grill\, 7 Centerpointe Dr\, Lake Oswego\, OR 97035\, USA\, 2 Centerpointe Dr\, United States
ATTACH;FMTTYPE=image/jpeg:https://bmworegoncca.com/wp-content/uploads/2018/12/fullsizeoutput_10a8.jpeg
ORGANIZER;CN="Scott Cotrell":MAILTO:scott@bmworegoncca.com
END:VEVENT
END:VCALENDAR