BEGIN:VCALENDAR
VERSION:2.0
PRODID:-//BMW Car Club of America - Oregon Chapter - ECPv6.15.20//NONSGML v1.0//EN
CALSCALE:GREGORIAN
METHOD:PUBLISH
X-WR-CALNAME:BMW Car Club of America - Oregon Chapter
X-ORIGINAL-URL:https://bmworegoncca.com
X-WR-CALDESC:Events for BMW Car Club of America - Oregon Chapter
REFRESH-INTERVAL;VALUE=DURATION:PT1H
X-Robots-Tag:noindex
X-PUBLISHED-TTL:PT1H
BEGIN:VTIMEZONE
TZID:America/Los_Angeles
BEGIN:DAYLIGHT
TZOFFSETFROM:-0800
TZOFFSETTO:-0700
TZNAME:PDT
DTSTART:20220313T100000
END:DAYLIGHT
BEGIN:STANDARD
TZOFFSETFROM:-0700
TZOFFSETTO:-0800
TZNAME:PST
DTSTART:20221106T090000
END:STANDARD
BEGIN:DAYLIGHT
TZOFFSETFROM:-0800
TZOFFSETTO:-0700
TZNAME:PDT
DTSTART:20230312T100000
END:DAYLIGHT
BEGIN:STANDARD
TZOFFSETFROM:-0700
TZOFFSETTO:-0800
TZNAME:PST
DTSTART:20231105T090000
END:STANDARD
BEGIN:DAYLIGHT
TZOFFSETFROM:-0800
TZOFFSETTO:-0700
TZNAME:PDT
DTSTART:20240310T100000
END:DAYLIGHT
BEGIN:STANDARD
TZOFFSETFROM:-0700
TZOFFSETTO:-0800
TZNAME:PST
DTSTART:20241103T090000
END:STANDARD
END:VTIMEZONE
BEGIN:VEVENT
DTSTART;TZID=America/Los_Angeles:20230504T070000
DTEND;TZID=America/Los_Angeles:20230504T170000
DTSTAMP:20260421T205520
CREATED:20230501T164751Z
LAST-MODIFIED:20230501T170322Z
UID:29344-1683183600-1683219600@bmworegoncca.com
SUMMARY:HPDE Track Event
DESCRIPTION:For more information and to register click here
URL:https://bmworegoncca.com/event/2023/hpde-track-event/
LOCATION:Portland International Raceway (PIR)\, 1940 N Victory Blvd\, Portland\, OR\, 97217\, United States
CATEGORIES:Track/Autocross
ORGANIZER;CN="Sara Brugger":MAILTO:sara.brugger@bmworegoncca.com
END:VEVENT
BEGIN:VEVENT
DTSTART;TZID=America/Los_Angeles:20230513T080000
DTEND;TZID=America/Los_Angeles:20230513T140000
DTSTAMP:20260421T205520
CREATED:20230321T202521Z
LAST-MODIFIED:20230425T203735Z
UID:29212-1683964800-1683986400@bmworegoncca.com
SUMMARY:Tour de Fred Poker Run
DESCRIPTION:Please Register Here\nThis year\, the Tour de Fred is doing it for the kids\, and the BMW CCA Oregon/SW WA Chapter would like our members to join in on the fun! \nThe 2023 drive will still offer the breathtaking views of the Columbia River Gorge and Mount Adams that you’ve come to expect from the Tour de Fred. But this year\, the event will also help bring smiles to the faces of pediatric patients via a 50/50 Poker Run to benefit our partnership with Boyd Motor Works for their Annual Toy Drive for Randall Children’s Hospital. Each Driver will pay a $30 fee to participate in the “Poker Run.” \nWhile not a race\, the Poker Run will be a whole lot of fun\, and the best hand wins. At five checkpoints along the route\, drivers will be given one playing card\, and the driver with the best poker hand at the end of the drive will go home with 50 percent of the “pot” and the other 50 percent will go toward the annual holiday toy drive. Even the car that arrives last could still have the best poker hand. And the more drivers who participate\, the more toys for kids undergoing medical treatment at Randall Childrens’ Hospital. \nAlong the way\, we’ll see gorgeous views of the Gorge from Cape Horn\, and drive past Beacon Rock and Bonneville Locks and Dam before turning inland along the Klickitat River toward mountain meadows and Mount Adams\, then turning back toward the Gorge. \nPassengers: bring your ante!!  Passengers can buy a hand too!  $30 cash gets one passenger hand per car at the Drive. \nCash donations for the annual toy drive will also be accepted at the Drive. \n*Please Note: This Drive is for current BMW CCA members and their passengers only\, who pre-register and pay online for the Drive.* \nWe will have a *mandatory* Drivers Meeting promptly at 8:30 AM on May 21st to explain the route and safety rules. We will head out in staggered groups shortly thereafter.
URL:https://bmworegoncca.com/event/2023/tour-de-fred-poker-run/
LOCATION:Starbucks (Washougal)\, 291 C St\, Washougal\, WA\, 98671-2146\, United States
CATEGORIES:Driving Tour
ATTACH;FMTTYPE=image/jpeg:https://bmworegoncca.com/wp-content/uploads/2022/03/IMG_9053-scaled.jpg
ORGANIZER;CN="Fred Krieger":MAILTO:fred@bmworegoncca.com
END:VEVENT
BEGIN:VEVENT
DTSTART;TZID=America/Los_Angeles:20230520T083000
DTEND;TZID=America/Los_Angeles:20230520T103000
DTSTAMP:20260421T205520
CREATED:20230222T021115Z
LAST-MODIFIED:20230328T170559Z
UID:29181-1684571400-1684578600@bmworegoncca.com
SUMMARY:BMW’s Cars and Coffee
DESCRIPTION:All BMWs welcome. \nCome and join your chapter members for a morning of great cars and coffee.  There is a Starbucks at the location.  Stay for Lunch at Oswego Grill.  \nRegistration is not required. See you there!
URL:https://bmworegoncca.com/event/2023/bmws-and-coffee-3/
LOCATION:Oswego Grill\, 7 Centerpointe Dr\, Lake Oswego\, OR 97035\, USA\, 2 Centerpointe Dr\, United States
CATEGORIES:Cars and Coffee
ATTACH;FMTTYPE=image/jpeg:https://bmworegoncca.com/wp-content/uploads/2022/03/IMG_7315-scaled.jpg
ORGANIZER;CN="Scott Cotrell":MAILTO:scott@bmworegoncca.com
END:VEVENT
BEGIN:VEVENT
DTSTART;TZID=America/Los_Angeles:20230525T180000
DTEND;TZID=America/Los_Angeles:20230525T203000
DTSTAMP:20260421T205520
CREATED:20230321T221831Z
LAST-MODIFIED:20230502T180404Z
UID:29213-1685037600-1685046600@bmworegoncca.com
SUMMARY:BMW Trivia Night at Nebulous Taproom
DESCRIPTION:“Join us at the Nebulous Taproom in Beaverton to test your BMW knowledge. We’ll meet in the parking lot starting at 6 pm for conversation and camaraderie\, then we’ll migrate inside at around 7 pm for a contest of technical and historical BMW trivia. Food is not provided for this event\, but there are several restaurants adjacent to the event\, including Qdoba\, Potbelly Sandwiches and Pho Von (Vietnamese food).” \nWe look forward to seeing you there.
URL:https://bmworegoncca.com/event/2023/bmw-trivia-night-at-nebulous-taproom/
LOCATION:Nebulous Taproom\, 11645 SW Beaverton Hillsdale\, Beaverton\, OR\, 97005\, United States
CATEGORIES:Social Event
ATTACH;FMTTYPE=image/jpeg:https://bmworegoncca.com/wp-content/uploads/2023/03/IMG_3916.jpg
END:VEVENT
BEGIN:VEVENT
DTSTART;TZID=America/Los_Angeles:20230527T090000
DTEND;TZID=America/Los_Angeles:20230527T120000
DTSTAMP:20260421T205520
CREATED:20230321T222940Z
LAST-MODIFIED:20230502T165405Z
UID:29215-1685178000-1685188800@bmworegoncca.com
SUMMARY:Eugene Cars and Coffee with Detail Driven
DESCRIPTION:
URL:https://bmworegoncca.com/event/2023/eugene-cars-and-coffee-with-detail-driven/
LOCATION:Detail Driven\, 28 West Q Street Unit E\, Springfield\, OR\, 97477\, United States
CATEGORIES:Cars and Coffee,Shop Tour,Social Event
ORGANIZER;CN="Sara Brugger":MAILTO:sara.brugger@bmworegoncca.com
END:VEVENT
END:VCALENDAR