BEGIN:VCALENDAR
VERSION:2.0
PRODID:-//BMW Car Club of America - Oregon Chapter - ECPv6.15.20//NONSGML v1.0//EN
CALSCALE:GREGORIAN
METHOD:PUBLISH
X-WR-CALNAME:BMW Car Club of America - Oregon Chapter
X-ORIGINAL-URL:https://bmworegoncca.com
X-WR-CALDESC:Events for BMW Car Club of America - Oregon Chapter
REFRESH-INTERVAL;VALUE=DURATION:PT1H
X-Robots-Tag:noindex
X-PUBLISHED-TTL:PT1H
BEGIN:VTIMEZONE
TZID:America/Los_Angeles
BEGIN:DAYLIGHT
TZOFFSETFROM:-0800
TZOFFSETTO:-0700
TZNAME:PDT
DTSTART:20220313T100000
END:DAYLIGHT
BEGIN:STANDARD
TZOFFSETFROM:-0700
TZOFFSETTO:-0800
TZNAME:PST
DTSTART:20221106T090000
END:STANDARD
BEGIN:DAYLIGHT
TZOFFSETFROM:-0800
TZOFFSETTO:-0700
TZNAME:PDT
DTSTART:20230312T100000
END:DAYLIGHT
BEGIN:STANDARD
TZOFFSETFROM:-0700
TZOFFSETTO:-0800
TZNAME:PST
DTSTART:20231105T090000
END:STANDARD
BEGIN:DAYLIGHT
TZOFFSETFROM:-0800
TZOFFSETTO:-0700
TZNAME:PDT
DTSTART:20240310T100000
END:DAYLIGHT
BEGIN:STANDARD
TZOFFSETFROM:-0700
TZOFFSETTO:-0800
TZNAME:PST
DTSTART:20241103T090000
END:STANDARD
END:VTIMEZONE
BEGIN:VEVENT
DTSTART;TZID=America/Los_Angeles:20230408T080000
DTEND;TZID=America/Los_Angeles:20230408T140000
DTSTAMP:20260421T223124
CREATED:20230222T000011Z
LAST-MODIFIED:20230307T235835Z
UID:29179-1680940800-1680962400@bmworegoncca.com
SUMMARY:Clackamas Ramble - Driving Tour
DESCRIPTION:Register Here\nWe are excited to announce that our famous driving tours are back! \nThe Clackamas Ramble was such a huge success last two years\, even with the rain\, hail and sun\, that we decided to bring it back to kickoff our driving tour season. The favorite over the hills and through the woods parts will remain along with new areas not explored before. From Carver we will head out to Elwood we will get our first taste of rolling twisty roads. The foothills of the Cascades are richly timbered and we will see many farms along the way as well. There are agricultural farms\, animal farms and even Christmas tree farms to see. Quaint churches also dot the landscape. We will meet up with the Molalla River and follow it into the Recreation Area. Scenic pastoral views are the backdrop for the next curvy section. At Scotts Mills we will take a 10 minute break to rest and visit in the park. Afterward we will head north where we will drive over Missouri Ridge\, down to Molalla\, and head to Beaver Creek. The fun continues in the North Highlands where some spectacular roads lead to Viola. Then it’s just minutes to Springwater Road and the View Point Restaurant.
URL:https://bmworegoncca.com/event/2023/clackamas-ramble-driving-tour/
LOCATION:Carver Park\, 14888 S. Springwater Rd.\, Oregon City\, OR\, 97045\, United States
CATEGORIES:Driving Tour
ATTACH;FMTTYPE=image/jpeg:https://bmworegoncca.com/wp-content/uploads/2022/03/BMWCCA-Drive-Color-graded-5-2.jpg
ORGANIZER;CN="Mark Koepping":MAILTO:mark@bmworegoncca.com
END:VEVENT
BEGIN:VEVENT
DTSTART;TZID=America/Los_Angeles:20230419T160000
DTEND;TZID=America/Los_Angeles:20230419T190000
DTSTAMP:20260421T223124
CREATED:20230321T201436Z
LAST-MODIFIED:20230417T185953Z
UID:29209-1681920000-1681930800@bmworegoncca.com
SUMMARY:Club Happy Hour Social at Gustav's
DESCRIPTION:
URL:https://bmworegoncca.com/event/2023/club-happy-hour-at-gustavs/
LOCATION:Gustav’s\, 1705 SE 164th Ave\, Vancouver\, WA\, 98683\, United States
CATEGORIES:Social Event
ORGANIZER;CN="Sara Brugger":MAILTO:sara.brugger@bmworegoncca.com
END:VEVENT
BEGIN:VEVENT
DTSTART;TZID=America/Los_Angeles:20230429T083000
DTEND;TZID=America/Los_Angeles:20230429T103000
DTSTAMP:20260421T223124
CREATED:20230222T020750Z
LAST-MODIFIED:20230328T171331Z
UID:29180-1682757000-1682764200@bmworegoncca.com
SUMMARY:BMW’s Cars and Coffee
DESCRIPTION:All BMWs welcome. \nCome and join your chapter members for a morning of great cars and coffee.  There is a Starbucks at the location.  Stay for Lunch at Oswego Grill.  \nRegistration is not required. See you there!
URL:https://bmworegoncca.com/event/2023/bmws-and-coffee-2/
LOCATION:Oswego Grill\, 7 Centerpointe Dr\, Lake Oswego\, OR 97035\, USA\, 2 Centerpointe Dr\, United States
CATEGORIES:Cars and Coffee
ATTACH;FMTTYPE=image/jpeg:https://bmworegoncca.com/wp-content/uploads/2022/03/Classic--scaled.jpg
ORGANIZER;CN="Scott Cotrell":MAILTO:scott@bmworegoncca.com
END:VEVENT
END:VCALENDAR