BEGIN:VCALENDAR
VERSION:2.0
PRODID:-//BMW Car Club of America - Oregon Chapter - ECPv6.15.20//NONSGML v1.0//EN
CALSCALE:GREGORIAN
METHOD:PUBLISH
X-WR-CALNAME:BMW Car Club of America - Oregon Chapter
X-ORIGINAL-URL:https://bmworegoncca.com
X-WR-CALDESC:Events for BMW Car Club of America - Oregon Chapter
REFRESH-INTERVAL;VALUE=DURATION:PT1H
X-Robots-Tag:noindex
X-PUBLISHED-TTL:PT1H
BEGIN:VTIMEZONE
TZID:America/Los_Angeles
BEGIN:DAYLIGHT
TZOFFSETFROM:-0800
TZOFFSETTO:-0700
TZNAME:PDT
DTSTART:20210314T100000
END:DAYLIGHT
BEGIN:STANDARD
TZOFFSETFROM:-0700
TZOFFSETTO:-0800
TZNAME:PST
DTSTART:20211107T090000
END:STANDARD
BEGIN:DAYLIGHT
TZOFFSETFROM:-0800
TZOFFSETTO:-0700
TZNAME:PDT
DTSTART:20220313T100000
END:DAYLIGHT
BEGIN:STANDARD
TZOFFSETFROM:-0700
TZOFFSETTO:-0800
TZNAME:PST
DTSTART:20221106T090000
END:STANDARD
BEGIN:DAYLIGHT
TZOFFSETFROM:-0800
TZOFFSETTO:-0700
TZNAME:PDT
DTSTART:20230312T100000
END:DAYLIGHT
BEGIN:STANDARD
TZOFFSETFROM:-0700
TZOFFSETTO:-0800
TZNAME:PST
DTSTART:20231105T090000
END:STANDARD
END:VTIMEZONE
BEGIN:VEVENT
DTSTART;TZID=America/Los_Angeles:20220611T093000
DTEND;TZID=America/Los_Angeles:20220611T150000
DTSTAMP:20260422T192106
CREATED:20220308T001946Z
LAST-MODIFIED:20220519T175413Z
UID:28971-1654939800-1654959600@bmworegoncca.com
SUMMARY:"Kenny's" Mary's Peak Driving Tour
DESCRIPTION:Join us June 11th for the Mary’s Peak Drive\, launching from BMW of Salem. The drive will start at the dealership\, then a 75 mile cruise through West Salem\, Independence\, and through beautiful King’s Valley country roads; ending with a thrilling hill climb up Mary’s Peak. Mary’s Peak is the highest point in the coast range mountains\, with an elevation of 4\,097ft. From the parking lot at the summit\, feel free to take an easy 15 minute hike to the top of the mountain (opportunity for a great photo op)\, hang out with fellow BMW enthusiasts\, enjoy your BYOP Picnic lunch or make a stop in Corvallis for lunch at one of the many restaurants like; American Dream Pizza\, Bombs Away Cafe\, Pastini\, Tarn Tip Thai Cuisine\, Woodstock’s Pizza\, Laughing Planet\, Cafe Yumm\, Sky High Brewing\, Taco Vino\, Big River\, and Del Alma. \nWe’ll begin at BMW of Salem for a chance to visit\, check out BMWs\, and have coffee\, tea\, bagels and donuts. If you have the need for future service or are looking for parts\, BMW of Salem has special discounts for BMW CCA members and has you covered! Please do take the time to inquire! While at BMW of Salem\, you are sincerely encouraged to drive our demo i4 and iX. The future of electric BMWs should be experienced by everyone and these vehicles are sure to make you grin ear to ear! \nPlease arrive at BMW of Salem between 9:30-10am for breakfast\, while you check out BMW of Salem and chat with felllow BMW CCA members. Then attend the mandatory Drivers’ Meeting promptly at 10:30am\, before our staggered departure onwards to Mary’s Peak. \n*Remember: This Drive is for current BMW CCA members and their passengers only\, who pre-register online for the Drive.* \nRegister Here
URL:https://bmworegoncca.com/event/2022/kennys-marys-peak-driving-tour/
LOCATION:BMW of Salem\, 1151 Van Ness Ave NE\, Salem\, OR\, 97301\, United States
CATEGORIES:Driving Tour
ATTACH;FMTTYPE=image/jpeg:https://bmworegoncca.com/wp-content/uploads/2022/03/Kenny-scaled.jpg
ORGANIZER;CN="Kenny Klink":MAILTO:vicepresident@bmworegoncca.com
END:VEVENT
BEGIN:VEVENT
DTSTART;TZID=America/Los_Angeles:20220613T183000
DTEND;TZID=America/Los_Angeles:20220613T203000
DTSTAMP:20260422T192106
CREATED:20220307T224532Z
LAST-MODIFIED:20220308T013257Z
UID:28957-1655145000-1655152200@bmworegoncca.com
SUMMARY:June Board Meeting
DESCRIPTION:Location TBA – If you’re not on the board but would like to attend the call\, please send an email to clubpresident@bmworegoncca.com for an invite. \nAll members are invited to attend each Oregon BMW CCA board meeting from 6:30-8:30. See your board in action! Directors’ reports\, event planning\, and way more fun than should be allowed. Come join us and help us grow our active CCA chapter!
URL:https://bmworegoncca.com/event/2022/board-meeting-2021-10-2-2-2-2-2/
CATEGORIES:All Events,Board Meeting,Social Event
ATTACH;FMTTYPE=image/jpeg:https://bmworegoncca.com/wp-content/uploads/2016/01/boardmeeting.jpg
ORGANIZER;CN="Sara Brugger":MAILTO:sara.brugger@bmworegoncca.com
END:VEVENT
BEGIN:VEVENT
DTSTART;TZID=America/Los_Angeles:20220618T090000
DTEND;TZID=America/Los_Angeles:20220618T120000
DTSTAMP:20260422T192106
CREATED:20220307T215756Z
LAST-MODIFIED:20220615T170633Z
UID:28943-1655542800-1655553600@bmworegoncca.com
SUMMARY:Celebrating 50 years of M
DESCRIPTION:Bring your M car to celebrate 50 years of M \nAll BMW’s welcome. \nThis month’s BMW’s and Coffee with be held at Kuni’s BMW. \nKuni BMW will have Pip’s Original Doughnuts & Chai available from 9 AM – 12 PM. They will have two doughnut flavors available ( cinnamon sugar and Nutella with Sea Salt) and one of their signature Chai’s and drip coffee available. This will be provided by Kuni\, complimentary for everyone who attends! \nRaffle! “BRING CASH” Kuni is going to have awesome raffle prizes available for everyone in attendance with a variety of BMW and BMW M gear available as well as a set of M3/M4 F80/F82/F83 Complete Winter Wheel Set. Plus a M track Day access for 2 at Thermal\, CA \nWE ARE M – 50 YEARS OF M
URL:https://bmworegoncca.com/event/2022/classic-bmws-and-coffee-2-2/
LOCATION:Kuni BMW\, 10999 SW Canyon Rd\, Beaverton\, OR\, 97005
CATEGORIES:Social Event,Vintage SIG
ORGANIZER;CN="Scott Cotrell":MAILTO:scott@bmworegoncca.com
END:VEVENT
BEGIN:VEVENT
DTSTART;TZID=America/Los_Angeles:20220626T100000
DTEND;TZID=America/Los_Angeles:20220626T150000
DTSTAMP:20260422T192106
CREATED:20220308T003412Z
LAST-MODIFIED:20220308T004842Z
UID:28975-1656237600-1656255600@bmworegoncca.com
SUMMARY:E30 Picnic
DESCRIPTION:presented by the BMW CCA E30 Chapter  \nevent information
URL:https://bmworegoncca.com/event/2022/e30-picnic-3/
LOCATION:LeMay Collections at Marymount\, 325 152nd St E\, Tacoma\, 98445
CATEGORIES:Social Event,Vintage SIG
ATTACH;FMTTYPE=image/jpeg:https://bmworegoncca.com/wp-content/uploads/2022/03/IMG_9383-scaled.jpg
END:VEVENT
END:VCALENDAR