BEGIN:VCALENDAR
VERSION:2.0
PRODID:-//BMW Car Club of America - Oregon Chapter - ECPv6.15.20//NONSGML v1.0//EN
CALSCALE:GREGORIAN
METHOD:PUBLISH
X-WR-CALNAME:BMW Car Club of America - Oregon Chapter
X-ORIGINAL-URL:https://bmworegoncca.com
X-WR-CALDESC:Events for BMW Car Club of America - Oregon Chapter
REFRESH-INTERVAL;VALUE=DURATION:PT1H
X-Robots-Tag:noindex
X-PUBLISHED-TTL:PT1H
BEGIN:VTIMEZONE
TZID:America/Los_Angeles
BEGIN:DAYLIGHT
TZOFFSETFROM:-0800
TZOFFSETTO:-0700
TZNAME:PDT
DTSTART:20170312T100000
END:DAYLIGHT
BEGIN:STANDARD
TZOFFSETFROM:-0700
TZOFFSETTO:-0800
TZNAME:PST
DTSTART:20171105T090000
END:STANDARD
BEGIN:DAYLIGHT
TZOFFSETFROM:-0800
TZOFFSETTO:-0700
TZNAME:PDT
DTSTART:20180311T100000
END:DAYLIGHT
BEGIN:STANDARD
TZOFFSETFROM:-0700
TZOFFSETTO:-0800
TZNAME:PST
DTSTART:20181104T090000
END:STANDARD
BEGIN:DAYLIGHT
TZOFFSETFROM:-0800
TZOFFSETTO:-0700
TZNAME:PDT
DTSTART:20190310T100000
END:DAYLIGHT
BEGIN:STANDARD
TZOFFSETFROM:-0700
TZOFFSETTO:-0800
TZNAME:PST
DTSTART:20191103T090000
END:STANDARD
END:VTIMEZONE
BEGIN:VEVENT
DTSTART;TZID=America/Los_Angeles:20180414T090000
DTEND;TZID=America/Los_Angeles:20180414T130000
DTSTAMP:20260421T105344
CREATED:20180303T013207Z
LAST-MODIFIED:20180403T230204Z
UID:27383-1523696400-1523710800@bmworegoncca.com
SUMMARY:Salem Covered Bridges Tour
DESCRIPTION:Did you know that Oregon has 50 registered historic covered bridges?  Starting at Salem BMW we will have a driving tour of 6 of these historic landmarks. We’il drive curvy roads through farm lands and charming small towns\, reminiscent of an earlier era. Finally\, we will return to BMW Salem around 1PM for lunch where grilled hamburgers and hot dogs will be served! \nRegistration ends on April 12\, 2018 \n				Register Now\n			 
URL:https://bmworegoncca.com/event/2018/salem-covered-bridges-or/
LOCATION:BMW of Salem\, 1151 Van Ness Ave NE\, Salem\, OR\, 97301\, United States
CATEGORIES:Driving Tour,Social Event
ORGANIZER;CN="Mark Koepping":MAILTO:mark@bmworegoncca.com
END:VEVENT
END:VCALENDAR