BEGIN:VCALENDAR
VERSION:2.0
PRODID:-//BMW Car Club of America - Oregon Chapter - ECPv6.15.20//NONSGML v1.0//EN
CALSCALE:GREGORIAN
METHOD:PUBLISH
X-WR-CALNAME:BMW Car Club of America - Oregon Chapter
X-ORIGINAL-URL:https://bmworegoncca.com
X-WR-CALDESC:Events for BMW Car Club of America - Oregon Chapter
REFRESH-INTERVAL;VALUE=DURATION:PT1H
X-Robots-Tag:noindex
X-PUBLISHED-TTL:PT1H
BEGIN:VTIMEZONE
TZID:America/Los_Angeles
BEGIN:DAYLIGHT
TZOFFSETFROM:-0800
TZOFFSETTO:-0700
TZNAME:PDT
DTSTART:20230312T100000
END:DAYLIGHT
BEGIN:STANDARD
TZOFFSETFROM:-0700
TZOFFSETTO:-0800
TZNAME:PST
DTSTART:20231105T090000
END:STANDARD
BEGIN:DAYLIGHT
TZOFFSETFROM:-0800
TZOFFSETTO:-0700
TZNAME:PDT
DTSTART:20240310T100000
END:DAYLIGHT
BEGIN:STANDARD
TZOFFSETFROM:-0700
TZOFFSETTO:-0800
TZNAME:PST
DTSTART:20241103T090000
END:STANDARD
BEGIN:DAYLIGHT
TZOFFSETFROM:-0800
TZOFFSETTO:-0700
TZNAME:PDT
DTSTART:20250309T100000
END:DAYLIGHT
BEGIN:STANDARD
TZOFFSETFROM:-0700
TZOFFSETTO:-0800
TZNAME:PST
DTSTART:20251102T090000
END:STANDARD
END:VTIMEZONE
BEGIN:VEVENT
DTSTART;TZID=America/Los_Angeles:20240622T083000
DTEND;TZID=America/Los_Angeles:20240622T103000
DTSTAMP:20260422T144921
CREATED:20240311T192732Z
LAST-MODIFIED:20240618T235027Z
UID:29639-1719045000-1719052200@bmworegoncca.com
SUMMARY:BMW Cars and Coffee
DESCRIPTION:All BMWs welcome. \nCome and join your chapter members for a morning of great cars and coffee.  There is a Starbucks at the location.  Stay for Lunch at Oswego Grill.  \nRegistration is not required. See you there!
URL:https://bmworegoncca.com/event/2024/bmw-cars-and-coffee-7/
LOCATION:Oswego Grill\, 7 Centerpointe Dr\, Lake Oswego\, OR 97035\, USA\, 2 Centerpointe Dr\, United States
CATEGORIES:Cars and Coffee,Social Event,Vintage SIG
ATTACH;FMTTYPE=image/jpeg:https://bmworegoncca.com/wp-content/uploads/2024/03/IMG_7315-scaled.jpg
ORGANIZER;CN="Scott Cotrell":MAILTO:scott@bmworegoncca.com
END:VEVENT
BEGIN:VEVENT
DTSTART;TZID=America/Los_Angeles:20240623T100000
DTEND;TZID=America/Los_Angeles:20240623T150000
DTSTAMP:20260422T144921
CREATED:20240311T205306Z
LAST-MODIFIED:20240311T205306Z
UID:29642-1719136800-1719154800@bmworegoncca.com
SUMMARY:E30 Picnic - E30 Chapter Event
DESCRIPTION:Click here for details
URL:https://bmworegoncca.com/event/2024/e30-picnic-e30-chapter-event/
LOCATION:LeMay Collections at Marymount\, 325 152nd St E\, Tacoma\, 98445
CATEGORIES:Cars and Coffee,Social Event,Vintage SIG
ATTACH;FMTTYPE=image/jpeg:https://bmworegoncca.com/wp-content/uploads/2024/03/IMG_9383-scaled.jpg
END:VEVENT
END:VCALENDAR