BEGIN:VCALENDAR
VERSION:2.0
PRODID:-//BMW Car Club of America - Oregon Chapter - ECPv6.15.20//NONSGML v1.0//EN
CALSCALE:GREGORIAN
METHOD:PUBLISH
X-WR-CALNAME:BMW Car Club of America - Oregon Chapter
X-ORIGINAL-URL:https://bmworegoncca.com
X-WR-CALDESC:Events for BMW Car Club of America - Oregon Chapter
REFRESH-INTERVAL;VALUE=DURATION:PT1H
X-Robots-Tag:noindex
X-PUBLISHED-TTL:PT1H
BEGIN:VTIMEZONE
TZID:America/Los_Angeles
BEGIN:DAYLIGHT
TZOFFSETFROM:-0800
TZOFFSETTO:-0700
TZNAME:PDT
DTSTART:20250309T100000
END:DAYLIGHT
BEGIN:STANDARD
TZOFFSETFROM:-0700
TZOFFSETTO:-0800
TZNAME:PST
DTSTART:20251102T090000
END:STANDARD
BEGIN:DAYLIGHT
TZOFFSETFROM:-0800
TZOFFSETTO:-0700
TZNAME:PDT
DTSTART:20260308T100000
END:DAYLIGHT
BEGIN:STANDARD
TZOFFSETFROM:-0700
TZOFFSETTO:-0800
TZNAME:PST
DTSTART:20261101T090000
END:STANDARD
BEGIN:DAYLIGHT
TZOFFSETFROM:-0800
TZOFFSETTO:-0700
TZNAME:PDT
DTSTART:20270314T100000
END:DAYLIGHT
BEGIN:STANDARD
TZOFFSETFROM:-0700
TZOFFSETTO:-0800
TZNAME:PST
DTSTART:20271107T090000
END:STANDARD
END:VTIMEZONE
BEGIN:VEVENT
DTSTART;VALUE=DATE:20260801
DTEND;VALUE=DATE:20260803
DTSTAMP:20260421T125702
CREATED:20260303T195631Z
LAST-MODIFIED:20260303T195631Z
UID:30119-1785542400-1785715199@bmworegoncca.com
SUMMARY:BMW and Ferrari High Desert Drive
DESCRIPTION:save the date
URL:https://bmworegoncca.com/event/2026/bmw-and-ferrari-high-desert-drive-2/
ATTACH;FMTTYPE=image/png:https://bmworegoncca.com/wp-content/uploads/2026/03/IMG_0819.png
ORGANIZER;CN="Mark Koepping":MAILTO:mark@bmworegoncca.com
END:VEVENT
END:VCALENDAR