BEGIN:VCALENDAR
VERSION:2.0
PRODID:-//BMW Car Club of America - Oregon Chapter - ECPv6.15.20//NONSGML v1.0//EN
CALSCALE:GREGORIAN
METHOD:PUBLISH
X-WR-CALNAME:BMW Car Club of America - Oregon Chapter
X-ORIGINAL-URL:https://bmworegoncca.com
X-WR-CALDESC:Events for BMW Car Club of America - Oregon Chapter
REFRESH-INTERVAL;VALUE=DURATION:PT1H
X-Robots-Tag:noindex
X-PUBLISHED-TTL:PT1H
BEGIN:VTIMEZONE
TZID:America/Los_Angeles
BEGIN:DAYLIGHT
TZOFFSETFROM:-0800
TZOFFSETTO:-0700
TZNAME:PDT
DTSTART:20250309T100000
END:DAYLIGHT
BEGIN:STANDARD
TZOFFSETFROM:-0700
TZOFFSETTO:-0800
TZNAME:PST
DTSTART:20251102T090000
END:STANDARD
BEGIN:DAYLIGHT
TZOFFSETFROM:-0800
TZOFFSETTO:-0700
TZNAME:PDT
DTSTART:20260308T100000
END:DAYLIGHT
BEGIN:STANDARD
TZOFFSETFROM:-0700
TZOFFSETTO:-0800
TZNAME:PST
DTSTART:20261101T090000
END:STANDARD
BEGIN:DAYLIGHT
TZOFFSETFROM:-0800
TZOFFSETTO:-0700
TZNAME:PDT
DTSTART:20270314T100000
END:DAYLIGHT
BEGIN:STANDARD
TZOFFSETFROM:-0700
TZOFFSETTO:-0800
TZNAME:PST
DTSTART:20271107T090000
END:STANDARD
END:VTIMEZONE
BEGIN:VEVENT
DTSTART;TZID=America/Los_Angeles:20260419T080000
DTEND;TZID=America/Los_Angeles:20260419T230000
DTSTAMP:20260421T013017
CREATED:20260303T180146Z
LAST-MODIFIED:20260415T173851Z
UID:30092-1776585600-1776639600@bmworegoncca.com
SUMMARY:BMW's and Coffee at BMW of Tigard
DESCRIPTION:Some Important Info:\nAll BMWs are welcome but parking will be limited so *ONLY BMWs* will be able to park onsite. \nThere is NO parking on site for non BMWs / spectators.\nNo early arrivals please (getting there before 8am won’t equal “special” parking or early access). \nYou will be directed where to park as you enter.\nPlease obey the BMW of Tigard staff. \nThere is parking for 125 BMWs. Once the spaces are full\, they are full and entry will be closed. \nIf you want to park together\, arrive in your BMWs together. No holding spots.\nWell-behaved dogs and children are welcome\, but must be supervised at all times. \nPlease be respectful of the adjoining businesses and do not block their buildings or parking lots.
URL:https://bmworegoncca.com/event/2026/bmws-and-coffee-at-bmw-of-tigard/
LOCATION:BMW of Tigard\, 10035 SW Cascade Ave\, Tigard\, OR\, 97223\, United States
ATTACH;FMTTYPE=image/jpeg:https://bmworegoncca.com/wp-content/uploads/2024/03/Tigard2.jpeg
ORGANIZER;CN="Scott Cotrell":MAILTO:scott@bmworegoncca.com
END:VEVENT
END:VCALENDAR