BEGIN:VCALENDAR
VERSION:2.0
PRODID:-//BMW Car Club of America - Oregon Chapter - ECPv6.15.20//NONSGML v1.0//EN
CALSCALE:GREGORIAN
METHOD:PUBLISH
X-WR-CALNAME:BMW Car Club of America - Oregon Chapter
X-ORIGINAL-URL:https://bmworegoncca.com
X-WR-CALDESC:Events for BMW Car Club of America - Oregon Chapter
REFRESH-INTERVAL;VALUE=DURATION:PT1H
X-Robots-Tag:noindex
X-PUBLISHED-TTL:PT1H
BEGIN:VTIMEZONE
TZID:America/Los_Angeles
BEGIN:DAYLIGHT
TZOFFSETFROM:-0800
TZOFFSETTO:-0700
TZNAME:PDT
DTSTART:20240310T100000
END:DAYLIGHT
BEGIN:STANDARD
TZOFFSETFROM:-0700
TZOFFSETTO:-0800
TZNAME:PST
DTSTART:20241103T090000
END:STANDARD
BEGIN:DAYLIGHT
TZOFFSETFROM:-0800
TZOFFSETTO:-0700
TZNAME:PDT
DTSTART:20250309T100000
END:DAYLIGHT
BEGIN:STANDARD
TZOFFSETFROM:-0700
TZOFFSETTO:-0800
TZNAME:PST
DTSTART:20251102T090000
END:STANDARD
BEGIN:DAYLIGHT
TZOFFSETFROM:-0800
TZOFFSETTO:-0700
TZNAME:PDT
DTSTART:20260308T100000
END:DAYLIGHT
BEGIN:STANDARD
TZOFFSETFROM:-0700
TZOFFSETTO:-0800
TZNAME:PST
DTSTART:20261101T090000
END:STANDARD
END:VTIMEZONE
BEGIN:VEVENT
DTSTART;VALUE=DATE:20251219
DTEND;VALUE=DATE:20251220
DTSTAMP:20260422T044340
CREATED:20251112T223125Z
LAST-MODIFIED:20251112T223457Z
UID:30033-1766102400-1766188799@bmworegoncca.com
SUMMARY:Boyd Motor Werks 12th Annual Toy Drive Benefiting Randall Children’s Hospital at Legacy Emanual
DESCRIPTION:Accepting NEW Unwrapped Toys for children of all ages between November 7th and December 19th 2025\nToy drop locations:\nActive Oregon Chiropractic – 130 W Clarendon St\, Gladstone\, OR 97027\nBoyd Motor Werks 224 NE 18th Ave\, Portland\, OR 97232\nBurback Motors – 71 SE Main St\, Portland\, OR 97214\nCountry Financial- Gabrielle Zenner- 17020 SW Upper Boones Ferry Rd Ste 100/101\, Tigard\, OR 97224\nRedland Café – 18305 S Redland Rd\, Oregon City\, OR 97045\nCarver Hangar – 16196 SE\, OR-224\, Boring\, OR 97089\nFajitas Mexican Restaurant – 14931 SE 82nd Dr\, Clackamas\, OR 97015\nElka Bees coffee Haus\n• Clackamas – 12330 SE Sunnyside Rd\, Clackamas\, OR 97015\n• Wilsonville – 8269 SW Wilsonville Rd A\, Wilsonville\, OR 97070\nOrangetheory Fitness\n• Tualatin-19221 SW Martinazzi Ave\, Tualatin\, OR 97062\n• Orenco- 965 NE Orenco Station Pkwy\, Hillsboro\, OR 97124\n• Happy Valley-16126 SE Happy Valley Town Center Dr Suite 201\, Happy Valley\, OR 97086\n• Vancouver-530 SE 192nd Ave #104\, Vancouver\, WA 98683\nOnPoint Community Credit Union\n• Hillsdale – 6367 SW Capitol Hwy\, Portland\, OR 97239\n• Beaverton – 2755 SW Cedar Hills Blvd #100\, Beaverton\, OR 97005\n• Mall 205 – 9730 SE Washington St\, Portland\, OR 97216\n• Kruse Meadows – 6300 Meadows Rd\, Lake Oswego\, OR 97035\n• Lloyd Center – 1100 NE Weidler St\, Portland\, OR 97232\n• Hawthorne – 3404 SE Hawthorne Blvd\, Portland\, OR 97214\n• Sellwood – 8085 SE 13th Ave\, Portland\, OR 97202\n• Newberg- 4105 E Crestview Dr Suite 105\, Newberg\, OR 97132\n• Clackamas – 8854 SE Sunnyside Rd\, Clackamas\, OR 97015\n• Wilsonville – 9460 SW Wilsonville Rd Suite 101\, Wilsonville\, OR 97070\nHappy Valley – 17055 SE Sunnyside Rd #126\, Happy Valley\, OR 97015
URL:https://bmworegoncca.com/event/2025/boyd-motor-werks-12th-annual-toy-drive-benefiting-randall-childrens-hospital-at-legacy-emanual/
ATTACH;FMTTYPE=image/jpeg:https://bmworegoncca.com/wp-content/uploads/2018/11/44108512_2597569210256825_5256837763243704320_n.jpg
END:VEVENT
END:VCALENDAR