BEGIN:VCALENDAR
VERSION:2.0
PRODID:-//BMW Car Club of America - Oregon Chapter - ECPv6.15.20//NONSGML v1.0//EN
CALSCALE:GREGORIAN
METHOD:PUBLISH
X-WR-CALNAME:BMW Car Club of America - Oregon Chapter
X-ORIGINAL-URL:https://bmworegoncca.com
X-WR-CALDESC:Events for BMW Car Club of America - Oregon Chapter
REFRESH-INTERVAL;VALUE=DURATION:PT1H
X-Robots-Tag:noindex
X-PUBLISHED-TTL:PT1H
BEGIN:VTIMEZONE
TZID:America/Los_Angeles
BEGIN:DAYLIGHT
TZOFFSETFROM:-0800
TZOFFSETTO:-0700
TZNAME:PDT
DTSTART:20220313T100000
END:DAYLIGHT
BEGIN:STANDARD
TZOFFSETFROM:-0700
TZOFFSETTO:-0800
TZNAME:PST
DTSTART:20221106T090000
END:STANDARD
BEGIN:DAYLIGHT
TZOFFSETFROM:-0800
TZOFFSETTO:-0700
TZNAME:PDT
DTSTART:20230312T100000
END:DAYLIGHT
BEGIN:STANDARD
TZOFFSETFROM:-0700
TZOFFSETTO:-0800
TZNAME:PST
DTSTART:20231105T090000
END:STANDARD
BEGIN:DAYLIGHT
TZOFFSETFROM:-0800
TZOFFSETTO:-0700
TZNAME:PDT
DTSTART:20240310T100000
END:DAYLIGHT
BEGIN:STANDARD
TZOFFSETFROM:-0700
TZOFFSETTO:-0800
TZNAME:PST
DTSTART:20241103T090000
END:STANDARD
END:VTIMEZONE
BEGIN:VEVENT
DTSTART;VALUE=DATE:20231215
DTEND;VALUE=DATE:20231216
DTSTAMP:20260421T070840
CREATED:20231120T194914Z
LAST-MODIFIED:20231120T203559Z
UID:29544-1702598400-1702684799@bmworegoncca.com
SUMMARY:10th Annual Boyd Motor Werks Toy Drive benefiting Randall Children’s Hospital at Legacy Emanuel
DESCRIPTION:Boyd Motor Werks’ 10th Annual Toy Drive for Randall Children’s Hospital has begun!\n\nWe are looking for donations of new (unwrapped\, please!) toys for children of all ages who have to spend the holidays in the hospital. All toy donations will go directly to the children at Randall Children’s Hospital at Legacy Emanuel Medical Center for them to enjoy all year long!\n\nOr cash donation can be used to purchase toys.\n\nCash Donation Here\n\n\n\nToy bins will be out the week of November 1st and will be picked up Friday December 15th. \nDelivery on Saturday December 16th! \nMust be New Unwrapped toys! \nToy bin locations: \nBoyd Motor Werks -224 NE 18th Ave \nCountry Financial -Gabrielle Zenner-17020 SW Upper Boones Ferry Ste 100/101 \nBurback Motors-71 SE Main St \nDaily Nutrition-12085 SW Hall Blvd #140 \nActive Oregon Chiropractic-130 W Clarendon St \nOh My Gelati-1630 Beavercreek Rd \nThink real Estate-212 SE 18th. \nOn-Point Community Credit Union (Following branches) \nHawthorne\, Kruse Way\, Mall 205\, Happy Valley\, Hillsdale\, Beaverton\, Sellwood\, Fremont and Lloyd. \nOrange Theory Fitness (following locations) \nHappy Valley\, Vancouver\, Tualatin\, Orenco Station
URL:https://bmworegoncca.com/event/2023/10th-annual-boyd-motor-werks-toy-drive-benefiting-randall-childrens-hospital-at-legacy-emanuel/
END:VEVENT
END:VCALENDAR