BEGIN:VCALENDAR
VERSION:2.0
PRODID:-//BMW Car Club of America - Oregon Chapter - ECPv6.15.20//NONSGML v1.0//EN
CALSCALE:GREGORIAN
METHOD:PUBLISH
X-WR-CALNAME:BMW Car Club of America - Oregon Chapter
X-ORIGINAL-URL:https://bmworegoncca.com
X-WR-CALDESC:Events for BMW Car Club of America - Oregon Chapter
REFRESH-INTERVAL;VALUE=DURATION:PT1H
X-Robots-Tag:noindex
X-PUBLISHED-TTL:PT1H
BEGIN:VTIMEZONE
TZID:America/Los_Angeles
BEGIN:DAYLIGHT
TZOFFSETFROM:-0800
TZOFFSETTO:-0700
TZNAME:PDT
DTSTART:20220313T100000
END:DAYLIGHT
BEGIN:STANDARD
TZOFFSETFROM:-0700
TZOFFSETTO:-0800
TZNAME:PST
DTSTART:20221106T090000
END:STANDARD
BEGIN:DAYLIGHT
TZOFFSETFROM:-0800
TZOFFSETTO:-0700
TZNAME:PDT
DTSTART:20230312T100000
END:DAYLIGHT
BEGIN:STANDARD
TZOFFSETFROM:-0700
TZOFFSETTO:-0800
TZNAME:PST
DTSTART:20231105T090000
END:STANDARD
BEGIN:DAYLIGHT
TZOFFSETFROM:-0800
TZOFFSETTO:-0700
TZNAME:PDT
DTSTART:20240310T100000
END:DAYLIGHT
BEGIN:STANDARD
TZOFFSETFROM:-0700
TZOFFSETTO:-0800
TZNAME:PST
DTSTART:20241103T090000
END:STANDARD
END:VTIMEZONE
BEGIN:VEVENT
DTSTART;TZID=America/Los_Angeles:20230917T110000
DTEND;TZID=America/Los_Angeles:20230917T150000
DTSTAMP:20260421T174828
CREATED:20230322T001259Z
LAST-MODIFIED:20230915T195755Z
UID:29226-1694948400-1694962800@bmworegoncca.com
SUMMARY:MotorFest 14 Picnic "E39 is featured"
DESCRIPTION:Oregon’s Largest BMW Festival! \nThe 14th-annual BMW Northwest MotorFest presented by the Oregon/SW Washington Chapter of the BMW Car Club of America. Once again the MotorFest will be held on a stunning\, tree-lined lawn of a 20-acre private residence in Silverton\, Oregon. MotorFest14 is open to all BMW owners\, club members and non-members alike. \n\nSerendipity Center is this years organization that we are raising funds for.  These fund come from registration\, donations sponsors and raffle ticket sales. \nThis year’s featured car is the e39 model: 5-series cars from 1997 to 2003. \nSpecial Guest from National BMWCCA: National Treasurer and Regional Vice President. \n\nPack your coolers with your favorite food and beverage for the bring-your-own-picnic-style (BYOP) format\, grab your lawn chairs & picnic blankets\, and settle into the MotorFest vibe\, as you reconnect with friends old and new and admire the amazing collection of BMWs\, from classic to contemporary. The location of this year’s celebration again allows for BMWs of all years\, models\, and styles to be parked beneath generous shade trees around the property\, adding another level of cool to the unique and eclectic mix of Bavaria’s finest motorcars. \nWith a variety of music\, a vendor row featuring many of our sponsors\, and the highly anticipated BMW Oregon CCA charity raffle\, MotorFest14 is the must-attend BMW event of the year. \n\nSponsors on Vendor Row: Heel and Toe\, Hooked on Driving\, Bavarian House\, Dapper Bear Candles\, Wheelkraft\, ProTek Automotive and Salem BMW \nSponsors: Boyds Motor Werks\, Country Financial – Gabrielle Zenner \nRaffle Table: Valentine One Gen 2 with case\, DJI Osmo Gimble\, 2 Griots car care Kit\, Hooked on Driving one day school\, ProTek – 3 detail packages\, Growler Werks- cold brew growler\, BBQ/Picnic Basket $50 Golf to Go from Creekside Salem\, Chemical Guys Wash Kit\, 5 Oil Change programs from Salem BMW\, Blue Bus Bluetooth\, Items from Heel and Toe \n\nWheelKraft NW who will be on site with their fleet of mobile wheel repair vehicles to take care of your unintended wheel scuffs! WheelKraft NW will be providing wheel repair services on-site between 11am and 2pm for $100 per wheel. Cash transactions and advanced reservations only. Email Mark@bmworegoncca.com to reserve an on-site time slot to have those rollers brought back to life! \nTo reserve your place on the grass\, and ensure you don’t miss the BMW party of the year\, register now for just $25 member and $35 non-members per BMW! \nPlease note: bring cash for all on-site transactions! We will have a Square card reader to process debit and credit card purchases\, but weak cellular signal may cause slow processing times. Cash will be faster! \n\nWe will send an email Friday September 15th with the event address to all that have registered.  No day of signup.     \n\nPlease join us and be part of this annual tradition to celebrate the 14th Anniversary of MotorFest with friends (and BMWs) old and new! \nMember Registration!\nNon-members registration here!
URL:https://bmworegoncca.com/event/2023/motorfest-14/
CATEGORIES:Social Event
ORGANIZER;CN="Scott Cotrell":MAILTO:scott@bmworegoncca.com
END:VEVENT
END:VCALENDAR