BEGIN:VCALENDAR
VERSION:2.0
PRODID:-//BMW Car Club of America - Oregon Chapter - ECPv6.15.20//NONSGML v1.0//EN
CALSCALE:GREGORIAN
METHOD:PUBLISH
X-WR-CALNAME:BMW Car Club of America - Oregon Chapter
X-ORIGINAL-URL:https://bmworegoncca.com
X-WR-CALDESC:Events for BMW Car Club of America - Oregon Chapter
REFRESH-INTERVAL;VALUE=DURATION:PT1H
X-Robots-Tag:noindex
X-PUBLISHED-TTL:PT1H
BEGIN:VTIMEZONE
TZID:America/Los_Angeles
BEGIN:DAYLIGHT
TZOFFSETFROM:-0800
TZOFFSETTO:-0700
TZNAME:PDT
DTSTART:20220313T100000
END:DAYLIGHT
BEGIN:STANDARD
TZOFFSETFROM:-0700
TZOFFSETTO:-0800
TZNAME:PST
DTSTART:20221106T090000
END:STANDARD
BEGIN:DAYLIGHT
TZOFFSETFROM:-0800
TZOFFSETTO:-0700
TZNAME:PDT
DTSTART:20230312T100000
END:DAYLIGHT
BEGIN:STANDARD
TZOFFSETFROM:-0700
TZOFFSETTO:-0800
TZNAME:PST
DTSTART:20231105T090000
END:STANDARD
BEGIN:DAYLIGHT
TZOFFSETFROM:-0800
TZOFFSETTO:-0700
TZNAME:PDT
DTSTART:20240310T100000
END:DAYLIGHT
BEGIN:STANDARD
TZOFFSETFROM:-0700
TZOFFSETTO:-0800
TZNAME:PST
DTSTART:20241103T090000
END:STANDARD
END:VTIMEZONE
BEGIN:VEVENT
DTSTART;TZID=America/Los_Angeles:20230525T180000
DTEND;TZID=America/Los_Angeles:20230525T203000
DTSTAMP:20260421T222608
CREATED:20230321T221831Z
LAST-MODIFIED:20230502T180404Z
UID:29213-1685037600-1685046600@bmworegoncca.com
SUMMARY:BMW Trivia Night at Nebulous Taproom
DESCRIPTION:“Join us at the Nebulous Taproom in Beaverton to test your BMW knowledge. We’ll meet in the parking lot starting at 6 pm for conversation and camaraderie\, then we’ll migrate inside at around 7 pm for a contest of technical and historical BMW trivia. Food is not provided for this event\, but there are several restaurants adjacent to the event\, including Qdoba\, Potbelly Sandwiches and Pho Von (Vietnamese food).” \nWe look forward to seeing you there.
URL:https://bmworegoncca.com/event/2023/bmw-trivia-night-at-nebulous-taproom/
LOCATION:Nebulous Taproom\, 11645 SW Beaverton Hillsdale\, Beaverton\, OR\, 97005\, United States
CATEGORIES:Social Event
ATTACH;FMTTYPE=image/jpeg:https://bmworegoncca.com/wp-content/uploads/2023/03/IMG_3916.jpg
END:VEVENT
END:VCALENDAR