BEGIN:VCALENDAR
VERSION:2.0
PRODID:-//BMW Car Club of America - Oregon Chapter - ECPv6.15.20//NONSGML v1.0//EN
CALSCALE:GREGORIAN
METHOD:PUBLISH
X-ORIGINAL-URL:https://bmworegoncca.com
X-WR-CALDESC:Events for BMW Car Club of America - Oregon Chapter
REFRESH-INTERVAL;VALUE=DURATION:PT1H
X-Robots-Tag:noindex
X-PUBLISHED-TTL:PT1H
BEGIN:VTIMEZONE
TZID:America/Los_Angeles
BEGIN:DAYLIGHT
TZOFFSETFROM:-0800
TZOFFSETTO:-0700
TZNAME:PDT
DTSTART:20210314T100000
END:DAYLIGHT
BEGIN:STANDARD
TZOFFSETFROM:-0700
TZOFFSETTO:-0800
TZNAME:PST
DTSTART:20211107T090000
END:STANDARD
BEGIN:DAYLIGHT
TZOFFSETFROM:-0800
TZOFFSETTO:-0700
TZNAME:PDT
DTSTART:20220313T100000
END:DAYLIGHT
BEGIN:STANDARD
TZOFFSETFROM:-0700
TZOFFSETTO:-0800
TZNAME:PST
DTSTART:20221106T090000
END:STANDARD
BEGIN:DAYLIGHT
TZOFFSETFROM:-0800
TZOFFSETTO:-0700
TZNAME:PDT
DTSTART:20230312T100000
END:DAYLIGHT
BEGIN:STANDARD
TZOFFSETFROM:-0700
TZOFFSETTO:-0800
TZNAME:PST
DTSTART:20231105T090000
END:STANDARD
END:VTIMEZONE
BEGIN:VEVENT
DTSTART;VALUE=DATE:20220716
DTEND;VALUE=DATE:20220718
DTSTAMP:20260422T192107
CREATED:20220308T005430Z
LAST-MODIFIED:20220308T005928Z
UID:28979-1657929600-1658102399@bmworegoncca.com
SUMMARY:Portland SpeedTour - Vintage Racing at PIR
DESCRIPTION:SVRA honors the glorious past of Portland International Raceway by bringing back to life the sights\, smells and sounds that have echoed off this popular track for 62 years. This exciting weekend features large grids and great competition. Friday is a Test Day. All SVRA race groups are invited. A Mazda Miata Heritage Cup Series race has been added to the schedule. Datsun is the featured marque. \nSince opening in 1960\, PIR has hosted most prestigious American race series\, including Trans-Am\, IndyCar\, NASCAR\, IMSA and SCCA\, not to mention memorable SVRA vintage races. Don’t miss the chance to challenge Portland International Raceway’s 12-turn\, 1.9-mile road course! \nOf the track\, there’s also lots of things to see and do\, including a car show\, marque corrals\, vendor row\, lunchtime touring and Portland’s famous Strawberry Shortcake! Join us for a fun weekend and add your signature to PIR’s racing history! \nWe will have a tent and car corral on the south side of the track (not in the infield).   Look for the 10 x 20 tent with the BMWCCA logo. \nregistration \nLook for Car Show Entrants on the left side. \nSee you soon.
URL:https://bmworegoncca.com/event/2022/portland-vintage-racing-speedtour-2021-2/
LOCATION:Portland International Raceway (PIR)\, 1940 N Victory Blvd\, Portland\, OR\, 97217\, United States
CATEGORIES:Track/Autocross,Vintage SIG
ATTACH;FMTTYPE=image/jpeg:https://bmworegoncca.com/wp-content/uploads/2014/07/14693650843_2eff87493f_z.jpg
ORGANIZER;CN="Mark Koepping":MAILTO:mark@bmworegoncca.com
END:VEVENT
END:VCALENDAR